BEGIN:VCALENDAR
VERSION:2.0
PRODID:-//RIGHTHERE//CALENDARIZE IT V3.2//EN
BEGIN:VTIMEZONE
TZID:Europe/London
X-MICROSOFT-CDO-TZID:1
BEGIN:STANDARD
DTSTART:20251026T010000
TZOFFSETFROM:+0100
TZOFFSETTO:+0000
TZNAME:GMT
END:STANDARD
BEGIN:DAYLIGHT
DTSTART:20260329T010000
TZOFFSETFROM:+0000
TZOFFSETTO:+0100
TZNAME:BST
END:DAYLIGHT
BEGIN:STANDARD
DTSTART:20261025T010000
TZOFFSETFROM:+0100
TZOFFSETTO:+0000
TZNAME:GMT
END:STANDARD
END:VTIMEZONE
BEGIN:VEVENT
UID:932-events@lethamhub.org
DTSTART;TZID=Europe/London:20241015T100000
DTEND;TZID=Europe/London:20241015T110000
DTSTAMP;TZID=Europe/London:20240930T121021
SUMMARY:Boxercise
URL:https://lethamhub.org/events/boxercise/
LOCATION:the hub\, amulree road\, Perth PH12HH
END:VEVENT
END:VCALENDAR