BEGIN:VCALENDAR
VERSION:2.0
PRODID:-//RIGHTHERE//CALENDARIZE IT V3.2//EN
BEGIN:VTIMEZONE
TZID:Europe/London
X-MICROSOFT-CDO-TZID:1
BEGIN:STANDARD
DTSTART:20251026T010000
TZOFFSETFROM:+0100
TZOFFSETTO:+0000
TZNAME:GMT
END:STANDARD
BEGIN:DAYLIGHT
DTSTART:20260329T010000
TZOFFSETFROM:+0000
TZOFFSETTO:+0100
TZNAME:BST
END:DAYLIGHT
BEGIN:STANDARD
DTSTART:20261025T010000
TZOFFSETFROM:+0100
TZOFFSETTO:+0000
TZNAME:GMT
END:STANDARD
END:VTIMEZONE
BEGIN:VEVENT
UID:995-events@lethamhub.org
DTSTART;TZID=Europe/London:20250209T090000
DTEND;TZID=Europe/London:20250209T120000
DTSTAMP;TZID=Europe/London:20250122T095638
SUMMARY:Indoor boot sale
RRULE:FREQ=WEEKLY;INTERVAL=2
URL:https://lethamhub.org/events/indoor-boot-sale/
END:VEVENT
END:VCALENDAR